BEGIN:VCALENDAR
VERSION:2.0
PRODID:SchoolNow
CALSCALE:GREGORIAN
BEGIN:VEVENT
UID:af5e0ee2-a1ea-11eb-aec8-027282de509f
DTSTAMP:20210420T151130Z
SUMMARY:Boys Tennis at Hamilton
LOCATION:4845 136th
URL;VALUE=URI:https://www.hudsonvillepublicschools.org/baldwinstreet/athlet
 ics/calendar/2582838/boys-tennis-at-hamilton
DTSTART:20210525T200000Z
DTEND:20210525T220000Z
END:VEVENT
END:VCALENDAR
