BEGIN:VCALENDAR
VERSION:2.0
PRODID:SchoolNow
CALSCALE:GREGORIAN
BEGIN:VEVENT
UID:9969f39e-a1ea-11eb-a929-027282de509f
DTSTAMP:20210420T151053Z
SUMMARY:Boys tennis home vs. Holland Christian
LOCATION:2745 Riley
URL;VALUE=URI:https://www.hudsonvillepublicschools.org/baldwinstreet/athlet
 ics/calendar/2582837/boys-tennis-home-vs-holland-christian
DTSTART:20210520T200000Z
DTEND:20210520T220000Z
END:VEVENT
END:VCALENDAR
