BEGIN:VCALENDAR
VERSION:2.0
PRODID:SchoolNow
CALSCALE:GREGORIAN
BEGIN:VEVENT
UID:790f86f4-a1ea-11eb-8fe9-027282de509f
DTSTAMP:20210420T150959Z
SUMMARY:Boys Tennis at Jenison
LOCATION:2140 Bauer Rd.
URL;VALUE=URI:https://www.hudsonvillepublicschools.org/baldwinstreet/athlet
 ics/calendar/2582836/boys-tennis-at-jenison
DTSTART:20210518T080000Z
DTEND:20210518T100000Z
END:VEVENT
END:VCALENDAR
