BEGIN:VCALENDAR
VERSION:2.0
PRODID:SchoolNow
CALSCALE:GREGORIAN
BEGIN:VEVENT
UID:5f5881b6-a1ea-11eb-b9b0-027282de509f
DTSTAMP:20210420T150915Z
SUMMARY:Boys tennis at Zeeland Cityside
LOCATION:179 W. Roosevelt
URL;VALUE=URI:https://www.hudsonvillepublicschools.org/baldwinstreet/athlet
 ics/calendar/2582835/boys-tennis-at-zeeland-cityside
DTSTART:20210513T200000Z
DTEND:20210513T220000Z
END:VEVENT
END:VCALENDAR
