BEGIN:VCALENDAR
VERSION:2.0
PRODID:SchoolNow
CALSCALE:GREGORIAN
BEGIN:VEVENT
UID:875e8e86-a1e9-11eb-8957-0a8cf5ce3b3d
DTSTAMP:20210420T150313Z
SUMMARY:Boys Tennis home vs. WO White
LOCATION:3835 Baldwin
URL;VALUE=URI:https://www.hudsonvillepublicschools.org/baldwinstreet/athlet
 ics/calendar/2582818/boys-tennis-home-vs-wo-white
DTSTART:20210511T200000Z
DTEND:20210511T220000Z
END:VEVENT
END:VCALENDAR
