BEGIN:VCALENDAR
VERSION:2.0
PRODID:SchoolNow
CALSCALE:GREGORIAN
BEGIN:VEVENT
UID:635fc96e-a1e9-11eb-95a4-0a8cf5ce3b3d
DTSTAMP:20210420T150213Z
SUMMARY:Boys Tennis at Grandville
LOCATION:3535 Wilson
URL;VALUE=URI:https://www.hudsonvillepublicschools.org/baldwinstreet/athlet
 ics/calendar/2582817/boys-tennis-at-grandville
DTSTART:20210506T200000Z
DTEND:20210506T220000Z
END:VEVENT
END:VCALENDAR
