BEGIN:VCALENDAR
VERSION:2.0
PRODID:SchoolNow
CALSCALE:GREGORIAN
BEGIN:VEVENT
UID:13e47088-a1e9-11eb-844e-0a8cf5ce3b3d
DTSTAMP:20210420T145959Z
SUMMARY:Boys Tennis home v. Grand Haven
LOCATION:3835 Baldwin
URL;VALUE=URI:https://www.hudsonvillepublicschools.org/baldwinstreet/athlet
 ics/calendar/2582816/boys-tennis-home-v-grand-haven
DTSTART:20210504T200000Z
DTEND:20210504T220000Z
END:VEVENT
END:VCALENDAR
