BEGIN:VCALENDAR
VERSION:2.0
PRODID:SchoolNow
CALSCALE:GREGORIAN
BEGIN:VEVENT
UID:fabe16d6-a1e8-11eb-b5cd-0a8cf5ce3b3d
DTSTAMP:20210428T144010Z
SUMMARY:Boys Tennis at Holland
LOCATION:373 E. 24th Ave.
URL;VALUE=URI:https://www.hudsonvillepublicschools.org/baldwinstreet/athlet
 ics/calendar/2582814/boys-tennis-at-holland
DTSTART:20210429T200000Z
DTEND:20210429T220000Z
END:VEVENT
END:VCALENDAR
