BEGIN:VCALENDAR
VERSION:2.0
PRODID:SchoolNow
CALSCALE:GREGORIAN
BEGIN:VEVENT
UID:e42f7d56-a1e8-11eb-9768-0a8cf5ce3b3d
DTSTAMP:20210420T145839Z
SUMMARY:Boys tennis home vs. Riley
LOCATION:3835 Baldwin
URL;VALUE=URI:https://www.hudsonvillepublicschools.org/baldwinstreet/athlet
 ics/calendar/2582813/boys-tennis-home-vs-riley
DTSTART:20210427T200000Z
DTEND:20210427T220000Z
END:VEVENT
END:VCALENDAR
