BEGIN:VCALENDAR
VERSION:2.0
PRODID:SchoolNow
CALSCALE:GREGORIAN
BEGIN:VEVENT
UID:cc2b55fe-a1e8-11eb-958b-0a8cf5ce3b3d
DTSTAMP:20210420T145759Z
SUMMARY:Boys tennis at Zeeland Creekside
LOCATION:179 Roosevelt
URL;VALUE=URI:https://www.hudsonvillepublicschools.org/baldwinstreet/athlet
 ics/calendar/2582812/boys-tennis-at-zeeland-creekside
DTSTART:20210422T200000Z
DTEND:20210422T220000Z
END:VEVENT
END:VCALENDAR
