BEGIN:VCALENDAR
VERSION:2.0
PRODID:SchoolNow
CALSCALE:GREGORIAN
BEGIN:VEVENT
UID:b2a003dc-a1e8-11eb-90f2-0a8cf5ce3b3d
DTSTAMP:20210420T145716Z
SUMMARY:Boys tennis home vs. West Ottawa
LOCATION:3835 Baldwin
URL;VALUE=URI:https://www.hudsonvillepublicschools.org/baldwinstreet/athlet
 ics/calendar/2582811/boys-tennis-home-vs-west-ottawa
DTSTART:20210420T200000Z
DTEND:20210420T220000Z
END:VEVENT
END:VCALENDAR
