BEGIN:VCALENDAR
VERSION:2.0
PRODID:SchoolNow
CALSCALE:GREGORIAN
BEGIN:VEVENT
UID:bcf5655c-1dfe-11eb-850d-12274c45d765
DTSTAMP:20201103T180229Z
SUMMARY:Girls Swim & Dive at Grand Haven
URL;VALUE=URI:https://www.hudsonvillepublicschools.org/baldwinstreet/athlet
 ics/calendar/2487864/girls-swim-dive-at-grand-haven
DTSTART:20201104T210000Z
DTEND:20201104T223000Z
END:VEVENT
END:VCALENDAR
