BEGIN:VCALENDAR
VERSION:2.0
PRODID:SchoolNow
CALSCALE:GREGORIAN
BEGIN:VEVENT
UID:aca75fe0-0d62-11eb-84c0-12134e281d4d
DTSTAMP:20201013T144501Z
SUMMARY:Maize Football home vs. Hamilton
URL;VALUE=URI:https://www.hudsonvillepublicschools.org/baldwinstreet/athlet
 ics/calendar/2453156/maize-football-home-vs-hamilton
DTSTART:20201020T200000Z
DTEND:20201020T230000Z
END:VEVENT
END:VCALENDAR
