BEGIN:VCALENDAR
VERSION:2.0
PRODID:SchoolNow
CALSCALE:GREGORIAN
BEGIN:VEVENT
UID:28266450-0d62-11eb-963b-0a8a2dcd427f
DTSTAMP:20201013T144119Z
SUMMARY:Blue Football at Holland Christian
URL;VALUE=URI:https://www.hudsonvillepublicschools.org/baldwinstreet/athlet
 ics/calendar/2453155/blue-football-at-holland-christian
DTSTART:20201019T213000Z
DTEND:20201020T000000Z
END:VEVENT
END:VCALENDAR
