BEGIN:VCALENDAR
VERSION:2.0
PRODID:SchoolNow
CALSCALE:GREGORIAN
BEGIN:VEVENT
UID:b444b994-0d5f-11eb-acda-0a9f298df187
DTSTAMP:20201013T142346Z
SUMMARY:Maize Football Home vs. Grandville
URL;VALUE=URI:https://www.hudsonvillepublicschools.org/baldwinstreet/athlet
 ics/calendar/2453152/maize-football-home-vs-grandville
DTSTART:20201014T200000Z
DTEND:20201014T230000Z
END:VEVENT
END:VCALENDAR
