BEGIN:VCALENDAR
VERSION:2.0
PRODID:SchoolNow
CALSCALE:GREGORIAN
BEGIN:VEVENT
UID:24548206-0d5f-11eb-b210-1248e505c689
DTSTAMP:20201013T141944Z
SUMMARY:Blue Football Home vs. Grand Haven
URL;VALUE=URI:https://www.hudsonvillepublicschools.org/baldwinstreet/athlet
 ics/calendar/2452898/blue-football-home-vs-grand-haven
DTSTART:20201013T200000Z
DTEND:20201013T230000Z
END:VEVENT
END:VCALENDAR
