BEGIN:VCALENDAR
VERSION:2.0
PRODID:SchoolNow
CALSCALE:GREGORIAN
BEGIN:VEVENT
UID:17b701c6-fc2b-11ea-8dcf-0a3ac53ed7ff
DTSTAMP:20200921T165419Z
SUMMARY:Girls Tennis at Grandville
URL;VALUE=URI:https://www.hudsonvillepublicschools.org/baldwinstreet/athlet
 ics/calendar/2373122/girls-tennis-at-grandville
DTSTART:20201015T200000Z
DTEND:20201015T210000Z
END:VEVENT
END:VCALENDAR
