BEGIN:VCALENDAR
VERSION:2.0
PRODID:SchoolNow
CALSCALE:GREGORIAN
BEGIN:VEVENT
UID:db053b6c-fc2a-11ea-ad21-1252925b8b0d
DTSTAMP:20200921T165238Z
SUMMARY:Girls Tennis vs. Zeeland Creekside
URL;VALUE=URI:https://www.hudsonvillepublicschools.org/baldwinstreet/athlet
 ics/calendar/2373120/girls-tennis-vs-zeeland-creekside
DTSTART:20201013T200000Z
DTEND:20201013T210000Z
END:VEVENT
END:VCALENDAR
