BEGIN:VCALENDAR
VERSION:2.0
PRODID:SchoolNow
CALSCALE:GREGORIAN
BEGIN:VEVENT
UID:bb8ee44a-fc2a-11ea-935c-1252925b8b0d
DTSTAMP:20200921T165145Z
SUMMARY:Girls Tennis at WO
URL;VALUE=URI:https://www.hudsonvillepublicschools.org/baldwinstreet/athlet
 ics/calendar/2373119/girls-tennis-at-wo
DTSTART:20201008T200000Z
DTEND:20201008T210000Z
END:VEVENT
END:VCALENDAR
