BEGIN:VCALENDAR
VERSION:2.0
PRODID:SchoolNow
CALSCALE:GREGORIAN
BEGIN:VEVENT
UID:7ab135d6-fc2a-11ea-b1e4-1252925b8b0d
DTSTAMP:20200921T164956Z
SUMMARY:Girls Tennis home vs. Grand Haven
URL;VALUE=URI:https://www.hudsonvillepublicschools.org/baldwinstreet/athlet
 ics/calendar/2373112/girls-tennis-home-vs-grand-haven
DTSTART:20200930T200000Z
DTEND:20200930T210000Z
END:VEVENT
END:VCALENDAR
