BEGIN:VCALENDAR
VERSION:2.0
PRODID:SchoolNow
CALSCALE:GREGORIAN
BEGIN:VEVENT
UID:eb063b48-fc29-11ea-8bc0-0a3ac53ed7ff
DTSTAMP:20200921T164555Z
SUMMARY:Girls Tennis home vs. Jenison
URL;VALUE=URI:https://www.hudsonvillepublicschools.org/baldwinstreet/athlet
 ics/calendar/2373106/girls-tennis-home-vs-jenison
DTSTART:20201006T200000Z
DTEND:20201006T210000Z
END:VEVENT
END:VCALENDAR
