BEGIN:VCALENDAR
VERSION:2.0
PRODID:SchoolNow
CALSCALE:GREGORIAN
BEGIN:VEVENT
UID:7a5ec6b2-fc29-11ea-848b-12e7856d820b
DTSTAMP:20200921T164246Z
SUMMARY:Girls Tennis at Holland Christian
URL;VALUE=URI:https://www.hudsonvillepublicschools.org/baldwinstreet/athlet
 ics/calendar/2373098/girls-tennis-at-holland-christian
DTSTART:20201001T200000Z
DTEND:20201001T210000Z
END:VEVENT
END:VCALENDAR
