BEGIN:VCALENDAR
VERSION:2.0
PRODID:SchoolNow
CALSCALE:GREGORIAN
BEGIN:VEVENT
UID:29a71260-fc29-11ea-b874-12e7856d820b
DTSTAMP:20200921T164714Z
SUMMARY:Girls Tennis home vs. Holland
URL;VALUE=URI:https://www.hudsonvillepublicschools.org/baldwinstreet/athlet
 ics/calendar/2373097/girls-tennis-home-vs-holland
DTSTART:20200929T200000Z
DTEND:20200929T210000Z
END:VEVENT
END:VCALENDAR
