BEGIN:VCALENDAR
VERSION:2.0
PRODID:SchoolNow
CALSCALE:GREGORIAN
BEGIN:VEVENT
UID:df7441cc-fc28-11ea-82ce-0adfbdf26d87
DTSTAMP:20200921T163826Z
SUMMARY:Girls Tennis at Riley
URL;VALUE=URI:https://www.hudsonvillepublicschools.org/baldwinstreet/athlet
 ics/calendar/2373093/girls-tennis-at-riley
DTSTART:20200924T200000Z
DTEND:20200924T210000Z
END:VEVENT
END:VCALENDAR
