BEGIN:VCALENDAR
VERSION:2.0
PRODID:SchoolNow
CALSCALE:GREGORIAN
BEGIN:VEVENT
UID:2b070b6c-fc18-11ea-b142-1252925b8b0d
DTSTAMP:20200921T143851Z
SUMMARY:Girls Volleyball at Mona Shores
URL;VALUE=URI:https://www.hudsonvillepublicschools.org/baldwinstreet/athlet
 ics/calendar/2372575/girls-volleyball-at-mona-shores
DTSTART:20201015T200000Z
DTEND:20201015T223000Z
END:VEVENT
END:VCALENDAR
