BEGIN:VCALENDAR
VERSION:2.0
PRODID:SchoolNow
CALSCALE:GREGORIAN
BEGIN:VEVENT
UID:065df92e-fc18-11ea-b9b1-1252925b8b0d
DTSTAMP:20200921T143750Z
SUMMARY:Girls Volleyball home vs. Grand Haven
URL;VALUE=URI:https://www.hudsonvillepublicschools.org/baldwinstreet/athlet
 ics/calendar/2372572/girls-volleyball-home-vs-grand-haven
DTSTART:20201013T200000Z
DTEND:20201013T223000Z
END:VEVENT
END:VCALENDAR
