BEGIN:VCALENDAR
VERSION:2.0
PRODID:SchoolNow
CALSCALE:GREGORIAN
BEGIN:VEVENT
UID:cb844984-fc17-11ea-ab17-12e7856d820b
DTSTAMP:20200921T143611Z
SUMMARY:BMS Volleyball home vs. Cityside
URL;VALUE=URI:https://www.hudsonvillepublicschools.org/baldwinstreet/athlet
 ics/calendar/2372567/bms-volleyball-home-vs-cityside
DTSTART:20201012T200000Z
DTEND:20201012T223000Z
END:VEVENT
END:VCALENDAR
