BEGIN:VCALENDAR
VERSION:2.0
PRODID:SchoolNow
CALSCALE:GREGORIAN
BEGIN:VEVENT
UID:7234d60a-fc17-11ea-a0a6-12a18bb9a12d
DTSTAMP:20200921T143341Z
SUMMARY:Girls Volleyball at Grand Haven
URL;VALUE=URI:https://www.hudsonvillepublicschools.org/baldwinstreet/athlet
 ics/calendar/2372533/girls-volleyball-at-grand-haven
DTSTART:20201008T200000Z
DTEND:20201008T223000Z
END:VEVENT
END:VCALENDAR
