BEGIN:VCALENDAR
VERSION:2.0
PRODID:SchoolNow
CALSCALE:GREGORIAN
BEGIN:VEVENT
UID:4f27e7b0-fc17-11ea-a488-12a18bb9a12d
DTSTAMP:20200921T143243Z
SUMMARY:Girls Volleyball home vs. WO
URL;VALUE=URI:https://www.hudsonvillepublicschools.org/baldwinstreet/athlet
 ics/calendar/2372532/girls-volleyball-home-vs-wo
DTSTART:20201006T200000Z
DTEND:20201006T220000Z
END:VEVENT
END:VCALENDAR
