BEGIN:VCALENDAR
VERSION:2.0
PRODID:SchoolNow
CALSCALE:GREGORIAN
BEGIN:VEVENT
UID:f1134354-fc16-11ea-807b-1210948247d1
DTSTAMP:20200921T143005Z
SUMMARY:Girls Volleyball home vs. Creekside
URL;VALUE=URI:https://www.hudsonvillepublicschools.org/baldwinstreet/athlet
 ics/calendar/2372523/girls-volleyball-home-vs-creekside
DTSTART:20201001T200000Z
DTEND:20201001T223000Z
END:VEVENT
END:VCALENDAR
