BEGIN:VCALENDAR
VERSION:2.0
PRODID:SchoolNow
CALSCALE:GREGORIAN
BEGIN:VEVENT
UID:c414c99a-fc16-11ea-8f08-12d3ef2256f5
DTSTAMP:20200921T142849Z
SUMMARY:Girls Volleyball at Grand Haven
URL;VALUE=URI:https://www.hudsonvillepublicschools.org/baldwinstreet/athlet
 ics/calendar/2372519/girls-volleyball-at-grand-haven
DTSTART:20200929T200000Z
DTEND:20200929T223000Z
END:VEVENT
END:VCALENDAR
