BEGIN:VCALENDAR
VERSION:2.0
PRODID:SchoolNow
CALSCALE:GREGORIAN
BEGIN:VEVENT
UID:9f06123a-fc16-11ea-b91e-12d3ef2256f5
DTSTAMP:20200921T142747Z
SUMMARY:Girls Volleyball at Grand Haven tournament
URL;VALUE=URI:https://www.hudsonvillepublicschools.org/baldwinstreet/athlet
 ics/calendar/2372517/girls-volleyball-at-grand-haven-tournament
DTSTART:20200926T123000Z
DTEND:20200926T160000Z
END:VEVENT
END:VCALENDAR
