BEGIN:VCALENDAR
VERSION:2.0
PRODID:SchoolNow
CALSCALE:GREGORIAN
BEGIN:VEVENT
UID:7c13a2fc-fc15-11ea-a8b4-0a3ac53ed7ff
DTSTAMP:20200921T141939Z
SUMMARY:Girls Volleyball home vs. Riley
URL;VALUE=URI:https://www.hudsonvillepublicschools.org/baldwinstreet/athlet
 ics/calendar/2372514/girls-volleyball-home-vs-riley
DTSTART:20200924T200000Z
DTEND:20200924T223000Z
END:VEVENT
END:VCALENDAR
