BEGIN:VCALENDAR
VERSION:2.0
PRODID:SchoolNow
CALSCALE:GREGORIAN
BEGIN:VEVENT
UID:ec7f39b2-fc14-11ea-8639-12a18bb9a12d
DTSTAMP:20200921T141538Z
SUMMARY:Girls Volleyball at Pinewood
URL;VALUE=URI:https://www.hudsonvillepublicschools.org/baldwinstreet/athlet
 ics/calendar/2372513/girls-volleyball-at-pinewood
DTSTART:20200922T200000Z
DTEND:20200922T223000Z
END:VEVENT
END:VCALENDAR
