BEGIN:VCALENDAR
VERSION:2.0
PRODID:SchoolNow
CALSCALE:GREGORIAN
BEGIN:VEVENT
UID:7c993332-fc14-11ea-9282-12a18bb9a12d
DTSTAMP:20200921T141230Z
SUMMARY:Cross Country Conference Meet at TBD
URL;VALUE=URI:https://www.hudsonvillepublicschools.org/baldwinstreet/athlet
 ics/calendar/2372506/cross-country-conference-meet-at-tbd
DTSTART:20201014T200000Z
DTEND:20201014T223000Z
END:VEVENT
END:VCALENDAR
