BEGIN:VCALENDAR
VERSION:2.0
PRODID:SchoolNow
CALSCALE:GREGORIAN
BEGIN:VEVENT
UID:627efe32-fc14-11ea-bd35-12a18bb9a12d
DTSTAMP:20200921T141147Z
SUMMARY:Cross Country at Grand Rapids MS Invite
URL;VALUE=URI:https://www.hudsonvillepublicschools.org/baldwinstreet/athlet
 ics/calendar/2372505/cross-country-at-grand-rapids-ms-invite
DTSTART:20201010T170000Z
DTEND:20201010T190000Z
END:VEVENT
END:VCALENDAR
