BEGIN:VCALENDAR
VERSION:2.0
PRODID:SchoolNow
CALSCALE:GREGORIAN
BEGIN:VEVENT
UID:2a8755e2-fc14-11ea-b4ac-0a5d946a49f3
DTSTAMP:20200921T141013Z
SUMMARY:Cross Country home vs. Jenison
URL;VALUE=URI:https://www.hudsonvillepublicschools.org/baldwinstreet/athlet
 ics/calendar/2372504/cross-country-home-vs-jenison
DTSTART:20201005T203000Z
DTEND:20201005T220000Z
END:VEVENT
END:VCALENDAR
