BEGIN:VCALENDAR
VERSION:2.0
PRODID:SchoolNow
CALSCALE:GREGORIAN
BEGIN:VEVENT
UID:0cf4012e-fc14-11ea-957a-0a5d946a49f3
DTSTAMP:20200921T140923Z
SUMMARY:Cross Country home vs. Grand Haven
URL;VALUE=URI:https://www.hudsonvillepublicschools.org/baldwinstreet/athlet
 ics/calendar/2372503/cross-country-home-vs-grand-haven
DTSTART:20201007T200000Z
DTEND:20201007T220000Z
END:VEVENT
END:VCALENDAR
