BEGIN:VCALENDAR
VERSION:2.0
PRODID:SchoolNow
CALSCALE:GREGORIAN
BEGIN:VEVENT
UID:c97a518c-fc13-11ea-b1c3-0ad12ca4eec3
DTSTAMP:20200921T141034Z
SUMMARY:Cross Country home vs. West Ottawa
URL;VALUE=URI:https://www.hudsonvillepublicschools.org/baldwinstreet/athlet
 ics/calendar/2372500/cross-country-home-vs-jenison
DTSTART:20200930T203000Z
DTEND:20200930T220000Z
END:VEVENT
END:VCALENDAR
