BEGIN:VCALENDAR
VERSION:2.0
PRODID:SchoolNow
CALSCALE:GREGORIAN
BEGIN:VEVENT
UID:adb96b18-fc13-11ea-96c3-0ad12ca4eec3
DTSTAMP:20200921T140643Z
SUMMARY:Cross Country vs. Grandville at Gezon Park
URL;VALUE=URI:https://www.hudsonvillepublicschools.org/baldwinstreet/athlet
 ics/calendar/2372499/cross-country-vs-grandville-at-gezon-park
DTSTART:20200921T200000Z
DTEND:20200921T213000Z
END:VEVENT
END:VCALENDAR
