BEGIN:VCALENDAR
VERSION:2.0
PRODID:SchoolNow
CALSCALE:GREGORIAN
BEGIN:VEVENT
UID:283e8958-fa94-11ea-810b-0a6edfa7cd93
DTSTAMP:20200919T162122Z
SUMMARY:Boys soccer at Muskegon/Byron Center
URL;VALUE=URI:https://www.hudsonvillepublicschools.org/baldwinstreet/athlet
 ics/calendar/2367696/boys-soccer-at-muskegon-byron-center
DTSTART:20200929T200000Z
DTEND:20200929T210000Z
END:VEVENT
END:VCALENDAR
