BEGIN:VCALENDAR
VERSION:2.0
PRODID:SchoolNow
CALSCALE:GREGORIAN
BEGIN:VEVENT
UID:e0fdaa24-fa93-11ea-91ba-0a6edfa7cd93
DTSTAMP:20200919T161923Z
SUMMARY:Boys soccer home vs. Grandville
URL;VALUE=URI:https://www.hudsonvillepublicschools.org/baldwinstreet/athlet
 ics/calendar/2367695/boys-soccer-home-vs-grandville
DTSTART:20200924T200000Z
DTEND:20200924T220000Z
END:VEVENT
END:VCALENDAR
