BEGIN:VCALENDAR
VERSION:2.0
PRODID:SchoolNow
CALSCALE:GREGORIAN
BEGIN:VEVENT
UID:adb73244-4d04-11ea-b371-123dc4263acf
DTSTAMP:20200211T192827Z
SUMMARY:Girls Basketball home vs. Grand Haven Gold
URL;VALUE=URI:https://www.hudsonvillepublicschools.org/baldwinstreet/athlet
 ics/calendar/2199921/girls-basketball-home-vs-grand-haven-gold
DTSTART:20200213T210000Z
DTEND:20200213T233000Z
END:VEVENT
END:VCALENDAR
