BEGIN:VCALENDAR
VERSION:2.0
PRODID:SchoolNow
CALSCALE:GREGORIAN
BEGIN:VEVENT
UID:5f6f89c4-4d04-11ea-8c75-123dc4263acf
DTSTAMP:20200211T192616Z
SUMMARY:Girls Basketball at Crestwood
URL;VALUE=URI:https://www.hudsonvillepublicschools.org/baldwinstreet/athlet
 ics/calendar/2199919/girls-basketball-at-crestwood
DTSTART:20200210T210000Z
DTEND:20200210T233000Z
END:VEVENT
END:VCALENDAR
