BEGIN:VCALENDAR
VERSION:2.0
PRODID:SchoolNow
CALSCALE:GREGORIAN
BEGIN:VEVENT
UID:9685c760-4210-11ea-8ad8-0adaae9fdfbd
DTSTAMP:20200128T205600Z
SUMMARY:Girls Basketball at Pinewood
URL;VALUE=URI:https://www.hudsonvillepublicschools.org/baldwinstreet/athlet
 ics/calendar/2191331/girls-basketball-at-pinewood
DTSTART:20200311T200000Z
DTEND:20200311T230000Z
END:VEVENT
END:VCALENDAR
