BEGIN:VCALENDAR
VERSION:2.0
PRODID:SchoolNow
CALSCALE:GREGORIAN
BEGIN:VEVENT
UID:741b33b8-4210-11ea-96e3-0adaae9fdfbd
DTSTAMP:20200128T205502Z
SUMMARY:Girls Basketball home vs. Muskegon
URL;VALUE=URI:https://www.hudsonvillepublicschools.org/baldwinstreet/athlet
 ics/calendar/2191328/girls-basketball-home-vs-muskegon
DTSTART:20200309T200000Z
DTEND:20200309T230000Z
END:VEVENT
END:VCALENDAR
