BEGIN:VCALENDAR
VERSION:2.0
PRODID:SchoolNow
CALSCALE:GREGORIAN
BEGIN:VEVENT
UID:4e7e6472-4210-11ea-beff-0adaae9fdfbd
DTSTAMP:20200128T205359Z
SUMMARY:Girls Basketball at Valleywood
URL;VALUE=URI:https://www.hudsonvillepublicschools.org/baldwinstreet/athlet
 ics/calendar/2191325/girls-basketball-at-valleywood
DTSTART:20200303T210000Z
DTEND:20200304T000000Z
END:VEVENT
END:VCALENDAR
