BEGIN:VCALENDAR
VERSION:2.0
PRODID:SchoolNow
CALSCALE:GREGORIAN
BEGIN:VEVENT
UID:184ff71c-4210-11ea-abc5-12df629b9fa3
DTSTAMP:20200128T205228Z
SUMMARY:Girls basketball home vs. Jenison
URL;VALUE=URI:https://www.hudsonvillepublicschools.org/baldwinstreet/athlet
 ics/calendar/2191322/girls-basketball-home-vs-jenison
DTSTART:20200226T210000Z
DTEND:20200227T000000Z
END:VEVENT
END:VCALENDAR
