BEGIN:VCALENDAR
VERSION:2.0
PRODID:SchoolNow
CALSCALE:GREGORIAN
BEGIN:VEVENT
UID:438178e4-420f-11ea-b329-0aa37c530b33
DTSTAMP:20200128T204631Z
SUMMARY:Girls Basketball home vs. Byron Center
URL;VALUE=URI:https://www.hudsonvillepublicschools.org/baldwinstreet/athlet
 ics/calendar/2191317/girls-basketball-home-vs-byron-center
DTSTART:20200224T210000Z
DTEND:20200225T000000Z
END:VEVENT
END:VCALENDAR
