BEGIN:VCALENDAR
VERSION:2.0
PRODID:SchoolNow
CALSCALE:GREGORIAN
BEGIN:VEVENT
UID:d5d76dee-420e-11ea-a938-0a8554dcf769
DTSTAMP:20200128T204327Z
SUMMARY:Girls Basketball at Riley
URL;VALUE=URI:https://www.hudsonvillepublicschools.org/baldwinstreet/athlet
 ics/calendar/2191316/girls-basketball-at-riley
DTSTART:20200220T210000Z
DTEND:20200221T000000Z
END:VEVENT
END:VCALENDAR
